BEGIN:VCALENDAR
VERSION:2.0
PRODID:-//Plone.org//NONSGML plone.app.event//EN
X-WR-TIMEZONE:Brazil/East
BEGIN:VEVENT
SUMMARY:1º Ano do Site
DTSTART;TZID=Brazil/East;VALUE=DATE-TIME:20250313T000000
DTEND;TZID=Brazil/East;VALUE=DATE-TIME:20250313T235959
DTSTAMP;VALUE=DATE-TIME:20260424T121027Z
UID:3d9dd264771b42c580c8136ff169cf81
CREATED;VALUE=DATE-TIME:20240313T165701Z
DESCRIPTION:Aniversário de primeiro ano do site desta Casa Legislativa. (
 este evento é um conteúdo de exemplo e pode ser removido)
LAST-MODIFIED;VALUE=DATE-TIME:20240313T165718Z
URL:http://portalmodelo.segep.ro.gov.br/portal/institucional/eventos/1o-an
 o-do-site
END:VEVENT
BEGIN:VTIMEZONE
TZID:Brazil/East
X-LIC-LOCATION:Brazil/East
BEGIN:STANDARD
DTSTART;VALUE=DATE-TIME:20250215T230000
TZNAME:BRT
TZOFFSETFROM:-0200
TZOFFSETTO:-0300
END:STANDARD
END:VTIMEZONE
END:VCALENDAR
